BEGIN:VCALENDAR
VERSION:2.0
PRODID:-//SRI VENKATESWARA TEMPLE(SVT) - ECPv6.0.2//NONSGML v1.0//EN
CALSCALE:GREGORIAN
METHOD:PUBLISH
X-ORIGINAL-URL:https://www.svtsydney.org
X-WR-CALDESC:Events for SRI VENKATESWARA TEMPLE(SVT)
REFRESH-INTERVAL;VALUE=DURATION:PT1H
X-Robots-Tag:noindex
X-PUBLISHED-TTL:PT1H
BEGIN:VTIMEZONE
TZID:Australia/Melbourne
BEGIN:STANDARD
TZOFFSETFROM:+1100
TZOFFSETTO:+1000
TZNAME:AEST
DTSTART:20210403T160000
END:STANDARD
BEGIN:DAYLIGHT
TZOFFSETFROM:+1000
TZOFFSETTO:+1100
TZNAME:AEDT
DTSTART:20211002T160000
END:DAYLIGHT
END:VTIMEZONE
BEGIN:VEVENT
DTSTART;VALUE=DATE:20210715
DTEND;VALUE=DATE:20210716
DTSTAMP:20260425T124508
CREATED:20210103T223252Z
LAST-MODIFIED:20210103T223306Z
UID:6098-1626307200-1626393599@www.svtsydney.org
SUMMARY:Aani Uthiram
DESCRIPTION:Share this page with your friends via:
URL:https://www.svtsydney.org/event/aani-uthiram/
END:VEVENT
BEGIN:VEVENT
DTSTART;VALUE=DATE:20210715
DTEND;VALUE=DATE:20210716
DTSTAMP:20260425T124508
CREATED:20210103T223400Z
LAST-MODIFIED:20210103T223400Z
UID:6100-1626307200-1626393599@www.svtsydney.org
SUMMARY:Natarajan Abhishekam
DESCRIPTION:Share this page with your friends via:
URL:https://www.svtsydney.org/event/natarajan-abhishekam/
END:VEVENT
END:VCALENDAR