BEGIN:VCALENDAR
VERSION:2.0
PRODID:-//SRI VENKATESWARA TEMPLE(SVT) - ECPv6.0.2//NONSGML v1.0//EN
CALSCALE:GREGORIAN
METHOD:PUBLISH
X-ORIGINAL-URL:https://www.svtsydney.org
X-WR-CALDESC:Events for SRI VENKATESWARA TEMPLE(SVT)
REFRESH-INTERVAL;VALUE=DURATION:PT1H
X-Robots-Tag:noindex
X-PUBLISHED-TTL:PT1H
BEGIN:VTIMEZONE
TZID:Australia/Melbourne
BEGIN:STANDARD
TZOFFSETFROM:+1100
TZOFFSETTO:+1000
TZNAME:AEST
DTSTART:20210403T160000
END:STANDARD
BEGIN:DAYLIGHT
TZOFFSETFROM:+1000
TZOFFSETTO:+1100
TZNAME:AEDT
DTSTART:20211002T160000
END:DAYLIGHT
END:VTIMEZONE
BEGIN:VEVENT
DTSTART;VALUE=DATE:20210808
DTEND;VALUE=DATE:20210809
DTSTAMP:20260425T105626
CREATED:20210103T225621Z
LAST-MODIFIED:20210103T225621Z
UID:6114-1628380800-1628467199@www.svtsydney.org
SUMMARY:Aadi Amavasai
DESCRIPTION:Share this page with your friends via:
URL:https://www.svtsydney.org/event/aadi-amavasai-2/
END:VEVENT
BEGIN:VEVENT
DTSTART;TZID=Australia/Melbourne:20210808T083000
DTEND;TZID=Australia/Melbourne:20210808T120000
DTSTAMP:20260425T105626
CREATED:20210103T225459Z
LAST-MODIFIED:20210103T225459Z
UID:6112-1628411400-1628424000@www.svtsydney.org
SUMMARY:Lalitha Sahasranama Homam
DESCRIPTION:Lalitha Sahasranama Homam\, Abhishekam\, Alankaram and Maha Deeparadhanai for Sri Tripurasundari followed by procession of Sri Tripurasundari Utsavamoorthy around the Praharam. \nShare this page with your friends via:
URL:https://www.svtsydney.org/event/lalitha-sahasranama-homam/
END:VEVENT
END:VCALENDAR