BEGIN:VCALENDAR
VERSION:2.0
PRODID:-//SRI VENKATESWARA TEMPLE(SVT) - ECPv6.0.2//NONSGML v1.0//EN
CALSCALE:GREGORIAN
METHOD:PUBLISH
X-WR-CALNAME:SRI VENKATESWARA TEMPLE(SVT)
X-ORIGINAL-URL:https://www.svtsydney.org
X-WR-CALDESC:Events for SRI VENKATESWARA TEMPLE(SVT)
REFRESH-INTERVAL;VALUE=DURATION:PT1H
X-Robots-Tag:noindex
X-PUBLISHED-TTL:PT1H
BEGIN:VTIMEZONE
TZID:Australia/Melbourne
BEGIN:STANDARD
TZOFFSETFROM:+1100
TZOFFSETTO:+1000
TZNAME:AEST
DTSTART:20210403T160000
END:STANDARD
BEGIN:DAYLIGHT
TZOFFSETFROM:+1000
TZOFFSETTO:+1100
TZNAME:AEDT
DTSTART:20211002T160000
END:DAYLIGHT
END:VTIMEZONE
BEGIN:VEVENT
DTSTART;VALUE=DATE:20210814
DTEND;VALUE=DATE:20210815
DTSTAMP:20260425T105546
CREATED:20210103T231151Z
LAST-MODIFIED:20210103T231151Z
UID:6126-1628899200-1628985599@www.svtsydney.org
SUMMARY:Aadi Swathi
DESCRIPTION:Share this page with your friends via:
URL:https://www.svtsydney.org/event/aadi-swathi-2/
END:VEVENT
BEGIN:VEVENT
DTSTART;VALUE=DATE:20210814
DTEND;VALUE=DATE:20210815
DTSTAMP:20260425T105546
CREATED:20210103T231323Z
LAST-MODIFIED:20210103T231323Z
UID:6128-1628899200-1628985599@www.svtsydney.org
SUMMARY:Sundaramurthy Nayanar Guru Pooja
DESCRIPTION:Share this page with your friends via:
URL:https://www.svtsydney.org/event/sundaramurthy-nayanar-guru-pooja/
END:VEVENT
BEGIN:VEVENT
DTSTART;TZID=Australia/Melbourne:20210814T083000
DTEND;TZID=Australia/Melbourne:20210814T090000
DTSTAMP:20260425T105546
CREATED:20210103T230453Z
LAST-MODIFIED:20210103T230929Z
UID:6122-1628929800-1628931600@www.svtsydney.org
SUMMARY:Garuda Jayanthi
DESCRIPTION:Abhishekam\, Alankaram and Maha Deeparadhanai for Sri Garuda Azhwar. \nShare this page with your friends via:
URL:https://www.svtsydney.org/event/garudah-jayanthi/
END:VEVENT
END:VCALENDAR