BEGIN:VCALENDAR
VERSION:2.0
PRODID:-//SRI VENKATESWARA TEMPLE(SVT) - ECPv6.0.2//NONSGML v1.0//EN
CALSCALE:GREGORIAN
METHOD:PUBLISH
X-WR-CALNAME:SRI VENKATESWARA TEMPLE(SVT)
X-ORIGINAL-URL:https://www.svtsydney.org
X-WR-CALDESC:Events for SRI VENKATESWARA TEMPLE(SVT)
REFRESH-INTERVAL;VALUE=DURATION:PT1H
X-Robots-Tag:noindex
X-PUBLISHED-TTL:PT1H
BEGIN:VTIMEZONE
TZID:Australia/Melbourne
BEGIN:STANDARD
TZOFFSETFROM:+1100
TZOFFSETTO:+1000
TZNAME:AEST
DTSTART:20210403T160000
END:STANDARD
BEGIN:DAYLIGHT
TZOFFSETFROM:+1000
TZOFFSETTO:+1100
TZNAME:AEDT
DTSTART:20211002T160000
END:DAYLIGHT
END:VTIMEZONE
BEGIN:VEVENT
DTSTART;VALUE=DATE:20210820
DTEND;VALUE=DATE:20210821
DTSTAMP:20260425T105547
CREATED:20210103T232446Z
LAST-MODIFIED:20210103T232446Z
UID:6136-1629417600-1629503999@www.svtsydney.org
SUMMARY:Varalakshmi Vrutham
DESCRIPTION:Share this page with your friends via:
URL:https://www.svtsydney.org/event/varalakshmi-vrutham/
END:VEVENT
BEGIN:VEVENT
DTSTART;TZID=Australia/Melbourne:20210820T173000
DTEND;TZID=Australia/Melbourne:20210820T190000
DTSTAMP:20260425T105547
CREATED:20210103T232617Z
LAST-MODIFIED:20210103T232617Z
UID:6138-1629480600-1629486000@www.svtsydney.org
SUMMARY:Pradosham
DESCRIPTION:Abhishekam for Sri Nandikeshwarar\, Sri Chandramouliswsarar\, Alankaram and Maha Deeparadhanai \nShare this page with your friends via:
URL:https://www.svtsydney.org/event/pradosham-55/
END:VEVENT
END:VCALENDAR