BEGIN:VCALENDAR
VERSION:2.0
PRODID:-//SRI VENKATESWARA TEMPLE(SVT) - ECPv6.0.2//NONSGML v1.0//EN
CALSCALE:GREGORIAN
METHOD:PUBLISH
X-ORIGINAL-URL:https://www.svtsydney.org
X-WR-CALDESC:Events for SRI VENKATESWARA TEMPLE(SVT)
REFRESH-INTERVAL;VALUE=DURATION:PT1H
X-Robots-Tag:noindex
X-PUBLISHED-TTL:PT1H
BEGIN:VTIMEZONE
TZID:Australia/Melbourne
BEGIN:STANDARD
TZOFFSETFROM:+1100
TZOFFSETTO:+1000
TZNAME:AEST
DTSTART:20210403T160000
END:STANDARD
BEGIN:DAYLIGHT
TZOFFSETFROM:+1000
TZOFFSETTO:+1100
TZNAME:AEDT
DTSTART:20211002T160000
END:DAYLIGHT
END:VTIMEZONE
BEGIN:VEVENT
DTSTART;TZID=Australia/Melbourne:20211220T060000
DTEND;TZID=Australia/Melbourne:20211220T093000
DTSTAMP:20260425T031422
CREATED:20210104T084818Z
LAST-MODIFIED:20210104T085043Z
UID:6273-1639980000-1639992600@www.svtsydney.org
SUMMARY:Aarudhra Dharshanam
DESCRIPTION:Abhishekam for Sri SivagamaSundari and Sri Natarajar\, Alankaram and Shodashopachara Maha Deeparadhanai \nShare this page with your friends via:
URL:https://www.svtsydney.org/event/aarudhra-dharshanam-2/
END:VEVENT
END:VCALENDAR