BEGIN:VCALENDAR
VERSION:2.0
PRODID:-//SRI VENKATESWARA TEMPLE(SVT) - ECPv6.0.2//NONSGML v1.0//EN
CALSCALE:GREGORIAN
METHOD:PUBLISH
X-ORIGINAL-URL:https://www.svtsydney.org
X-WR-CALDESC:Events for SRI VENKATESWARA TEMPLE(SVT)
REFRESH-INTERVAL;VALUE=DURATION:PT1H
X-Robots-Tag:noindex
X-PUBLISHED-TTL:PT1H
BEGIN:VTIMEZONE
TZID:Australia/Melbourne
BEGIN:STANDARD
TZOFFSETFROM:+1100
TZOFFSETTO:+1000
TZNAME:AEST
DTSTART:20210403T160000
END:STANDARD
BEGIN:DAYLIGHT
TZOFFSETFROM:+1000
TZOFFSETTO:+1100
TZNAME:AEDT
DTSTART:20211002T160000
END:DAYLIGHT
END:VTIMEZONE
BEGIN:VEVENT
DTSTART;TZID=Australia/Melbourne:20211231T173000
DTEND;TZID=Australia/Melbourne:20211231T190000
DTSTAMP:20260425T012626
CREATED:20210104T085332Z
LAST-MODIFIED:20210104T085332Z
UID:6276-1640971800-1640977200@www.svtsydney.org
SUMMARY:Pradosham
DESCRIPTION:Abhishekam for Sri Nandikeshwarar\, Sri Chandramouliswsarar\, Alankaram and Maha Deeparadhanai. \nShare this page with your friends via:
URL:https://www.svtsydney.org/event/pradosham-64/
END:VEVENT
BEGIN:VEVENT
DTSTART;TZID=Australia/Melbourne:20211231T203000
DTEND;TZID=Australia/Melbourne:20211231T203000
DTSTAMP:20260425T012626
CREATED:20210104T085811Z
LAST-MODIFIED:20210104T085811Z
UID:6278-1640982600-1640982600@www.svtsydney.org
SUMMARY:New Year Eve Special Pooja
DESCRIPTION:Bhajans\, Mid-night Maha Deeparadhanai for Lord Sri Venkateswara\, Sri Mahalakshmi and Sri Andal. \nShare this page with your friends via:
URL:https://www.svtsydney.org/event/new-year-eve-special-pooja-3/
END:VEVENT
END:VCALENDAR