BEGIN:VCALENDAR
VERSION:2.0
PRODID:-//SRI VENKATESWARA TEMPLE(SVT) - ECPv6.0.2//NONSGML v1.0//EN
CALSCALE:GREGORIAN
METHOD:PUBLISH
X-ORIGINAL-URL:https://www.svtsydney.org
X-WR-CALDESC:Events for SRI VENKATESWARA TEMPLE(SVT)
REFRESH-INTERVAL;VALUE=DURATION:PT1H
X-Robots-Tag:noindex
X-PUBLISHED-TTL:PT1H
BEGIN:VTIMEZONE
TZID:Australia/Melbourne
BEGIN:STANDARD
TZOFFSETFROM:+1100
TZOFFSETTO:+1000
TZNAME:AEST
DTSTART:20220402T160000
END:STANDARD
BEGIN:DAYLIGHT
TZOFFSETFROM:+1000
TZOFFSETTO:+1100
TZNAME:AEDT
DTSTART:20221001T160000
END:DAYLIGHT
END:VTIMEZONE
BEGIN:VEVENT
DTSTART;VALUE=DATE:20220221
DTEND;VALUE=DATE:20220222
DTSTAMP:20260424T233325
CREATED:20211227T015544Z
LAST-MODIFIED:20211227T015544Z
UID:7674-1645401600-1645487999@www.svtsydney.org
SUMMARY:SM- Day 1 - Flag Hoisting Ceremony
DESCRIPTION:06.00am: Nitya Poojas \n09.00am: Dwajapaada (Festival flag) Pooja\, \n10.30am: Dwaja Aarohanam (Flag hoisting ceremony) \nShare this page with your friends via:
URL:https://www.svtsydney.org/event/sm-day-1-flag-hoisting-ceremony/
END:VEVENT
END:VCALENDAR