BEGIN:VCALENDAR
VERSION:2.0
PRODID:-//SRI VENKATESWARA TEMPLE(SVT) - ECPv6.0.2//NONSGML v1.0//EN
CALSCALE:GREGORIAN
METHOD:PUBLISH
X-WR-CALNAME:SRI VENKATESWARA TEMPLE(SVT)
X-ORIGINAL-URL:https://www.svtsydney.org
X-WR-CALDESC:Events for SRI VENKATESWARA TEMPLE(SVT)
REFRESH-INTERVAL;VALUE=DURATION:PT1H
X-Robots-Tag:noindex
X-PUBLISHED-TTL:PT1H
BEGIN:VTIMEZONE
TZID:Australia/Melbourne
BEGIN:STANDARD
TZOFFSETFROM:+1100
TZOFFSETTO:+1000
TZNAME:AEST
DTSTART:20220402T160000
END:STANDARD
BEGIN:DAYLIGHT
TZOFFSETFROM:+1000
TZOFFSETTO:+1100
TZNAME:AEDT
DTSTART:20221001T160000
END:DAYLIGHT
END:VTIMEZONE
BEGIN:VEVENT
DTSTART;VALUE=DATE:20220227
DTEND;VALUE=DATE:20220228
DTSTAMP:20260424T233144
CREATED:20211227T020612Z
LAST-MODIFIED:20211227T020612Z
UID:7686-1645920000-1646006399@www.svtsydney.org
SUMMARY:SM - Day 7  Sri Meenakshi ThiruKalyana Utsavam
DESCRIPTION:11.00am: Prahara Utsavam. \n03.00pm: Sri Meenakshi Kalyana Utsavam. \n05.30pm: Upachara Poojas\, Procession of Meenakshi & Sundareswarar on Kalyana Kolam inside and around the Temple on Pushpa Pallakku. \nShare this page with your friends via:
URL:https://www.svtsydney.org/event/sm-day-7-sri-meenakshi-thirukalyana-utsavam/
END:VEVENT
END:VCALENDAR