BEGIN:VCALENDAR
VERSION:2.0
PRODID:-//SRI VENKATESWARA TEMPLE(SVT) - ECPv6.0.2//NONSGML v1.0//EN
CALSCALE:GREGORIAN
METHOD:PUBLISH
X-ORIGINAL-URL:https://www.svtsydney.org
X-WR-CALDESC:Events for SRI VENKATESWARA TEMPLE(SVT)
REFRESH-INTERVAL;VALUE=DURATION:PT1H
X-Robots-Tag:noindex
X-PUBLISHED-TTL:PT1H
BEGIN:VTIMEZONE
TZID:Australia/Melbourne
BEGIN:STANDARD
TZOFFSETFROM:+1100
TZOFFSETTO:+1000
TZNAME:AEST
DTSTART:20220402T160000
END:STANDARD
BEGIN:DAYLIGHT
TZOFFSETFROM:+1000
TZOFFSETTO:+1100
TZNAME:AEDT
DTSTART:20221001T160000
END:DAYLIGHT
END:VTIMEZONE
BEGIN:VEVENT
DTSTART;VALUE=DATE:20220414
DTEND;VALUE=DATE:20220415
DTSTAMP:20260424T200800
CREATED:20211227T031933Z
LAST-MODIFIED:20211227T031933Z
UID:7718-1649894400-1649980799@www.svtsydney.org
SUMMARY:Vishu Punyakalam
DESCRIPTION:Share this page with your friends via:
URL:https://www.svtsydney.org/event/vishu-punyakalam/
END:VEVENT
BEGIN:VEVENT
DTSTART;TZID=Australia/Melbourne:20220414T090000
DTEND;TZID=Australia/Melbourne:20220414T113000
DTSTAMP:20260424T200800
CREATED:20211227T031859Z
LAST-MODIFIED:20211227T031859Z
UID:7716-1649926800-1649935800@www.svtsydney.org
SUMMARY:“SUBAKRITHU” Tamil New Year
DESCRIPTION:Visesha Abishekam for Sri Varasidhi Vinayakar\, Alankaram\, Maha Deeparadhanai. \nShare this page with your friends via:
URL:https://www.svtsydney.org/event/subakrithu-tamil-new-year/
END:VEVENT
BEGIN:VEVENT
DTSTART;TZID=Australia/Melbourne:20220414T173000
DTEND;TZID=Australia/Melbourne:20220414T190000
DTSTAMP:20260424T200800
CREATED:20211227T032041Z
LAST-MODIFIED:20211227T032041Z
UID:7720-1649957400-1649962800@www.svtsydney.org
SUMMARY:Pradosham
DESCRIPTION:Abishekam for Sri Nandikeshwarar & Sri Chandramouliswarar\, Alankaram and Maha Deeparadhanai \nShare this page with your friends via:
URL:https://www.svtsydney.org/event/pradosham-72/
END:VEVENT
END:VCALENDAR