BEGIN:VCALENDAR
VERSION:2.0
PRODID:-//SRI VENKATESWARA TEMPLE(SVT) - ECPv6.0.2//NONSGML v1.0//EN
CALSCALE:GREGORIAN
METHOD:PUBLISH
X-ORIGINAL-URL:https://www.svtsydney.org
X-WR-CALDESC:Events for SRI VENKATESWARA TEMPLE(SVT)
REFRESH-INTERVAL;VALUE=DURATION:PT1H
X-Robots-Tag:noindex
X-PUBLISHED-TTL:PT1H
BEGIN:VTIMEZONE
TZID:Australia/Melbourne
BEGIN:STANDARD
TZOFFSETFROM:+1100
TZOFFSETTO:+1000
TZNAME:AEST
DTSTART:20220402T160000
END:STANDARD
BEGIN:DAYLIGHT
TZOFFSETFROM:+1000
TZOFFSETTO:+1100
TZNAME:AEDT
DTSTART:20221001T160000
END:DAYLIGHT
END:VTIMEZONE
BEGIN:VEVENT
DTSTART;TZID=Australia/Melbourne:20220809T173000
DTEND;TZID=Australia/Melbourne:20220809T190000
DTSTAMP:20260420T142618
CREATED:20211227T062540Z
LAST-MODIFIED:20211227T062540Z
UID:7812-1660066200-1660071600@www.svtsydney.org
SUMMARY:Pradosham
DESCRIPTION:Abishekam for Sri Nandikeshwarar & Sri Chandramouliswarar\, Alankaram and Maha Deeparadhanai \nShare this page with your friends via:
URL:https://www.svtsydney.org/event/pradosham-79/
END:VEVENT
END:VCALENDAR