BEGIN:VCALENDAR
VERSION:2.0
PRODID:-//SRI VENKATESWARA TEMPLE(SVT) - ECPv6.0.2//NONSGML v1.0//EN
CALSCALE:GREGORIAN
METHOD:PUBLISH
X-WR-CALNAME:SRI VENKATESWARA TEMPLE(SVT)
X-ORIGINAL-URL:https://www.svtsydney.org
X-WR-CALDESC:Events for SRI VENKATESWARA TEMPLE(SVT)
REFRESH-INTERVAL;VALUE=DURATION:PT1H
X-Robots-Tag:noindex
X-PUBLISHED-TTL:PT1H
BEGIN:VTIMEZONE
TZID:Australia/Melbourne
BEGIN:STANDARD
TZOFFSETFROM:+1100
TZOFFSETTO:+1000
TZNAME:AEST
DTSTART:20210403T160000
END:STANDARD
BEGIN:DAYLIGHT
TZOFFSETFROM:+1000
TZOFFSETTO:+1100
TZNAME:AEDT
DTSTART:20211002T160000
END:DAYLIGHT
END:VTIMEZONE
BEGIN:VEVENT
DTSTART;TZID=Australia/Melbourne:20211102T173000
DTEND;TZID=Australia/Melbourne:20211102T190000
DTSTAMP:20260425T031424
CREATED:20210104T072420Z
LAST-MODIFIED:20210104T072420Z
UID:6221-1635874200-1635879600@www.svtsydney.org
SUMMARY:Pradosham
DESCRIPTION:Abhishekam for Sri Nandikeshwarar\, Sri Chandramouliswsarar\, Alankaram and Maha Deeparadhanai. \nShare this page with your friends via:
URL:https://www.svtsydney.org/event/pradosham-60/
END:VEVENT
BEGIN:VEVENT
DTSTART;TZID=Australia/Melbourne:20211104T180000
DTEND;TZID=Australia/Melbourne:20211104T193000
DTSTAMP:20260425T031424
CREATED:20210104T072617Z
LAST-MODIFIED:20210104T072617Z
UID:6223-1636048800-1636054200@www.svtsydney.org
SUMMARY:Deepavali
DESCRIPTION:Lakshmi Kubera Pooja \nShare this page with your friends via:
URL:https://www.svtsydney.org/event/deepavali-2/
END:VEVENT
BEGIN:VEVENT
DTSTART;VALUE=DATE:20211105
DTEND;VALUE=DATE:20211106
DTSTAMP:20260425T031424
CREATED:20210104T074131Z
LAST-MODIFIED:20210104T074131Z
UID:6226-1636070400-1636156799@www.svtsydney.org
SUMMARY:Pavithrotsava Poorvangam
DESCRIPTION:8.00am: Thirupalli Elluchi (Waking up of the Lord)\, Nitya Pooja\, PunyakaVachanam\, Abhishekam Sri Venkateswara Utsavamoorthy\, Sri Mahalakshmi\, Sri Andal\, Sri Rama – Sri Sita – Sri Lakshmana\, Sri Anjaneya\, Sri SudarshanaMurthy\, Sri Viswaksena & Sri Garuda. \n12.00 Noon: Midday Pooja \n5.00pm: Nitya Pooja\, Sankalpam\, RakshaBandanam and Evening Pooja \nShare this page with your friends via:
URL:https://www.svtsydney.org/event/pavithrotsava-poorvangam-2/
END:VEVENT
BEGIN:VEVENT
DTSTART;VALUE=DATE:20211105
DTEND;VALUE=DATE:20211106
DTSTAMP:20260425T031424
CREATED:20210104T074307Z
LAST-MODIFIED:20210104T074307Z
UID:6229-1636070400-1636156799@www.svtsydney.org
SUMMARY:Skanda Sashti Festival commences
DESCRIPTION:Share this page with your friends via:
URL:https://www.svtsydney.org/event/skanda-sashti-festival-commences-2/
END:VEVENT
BEGIN:VEVENT
DTSTART;VALUE=DATE:20211106
DTEND;VALUE=DATE:20211107
DTSTAMP:20260425T031424
CREATED:20210104T075509Z
LAST-MODIFIED:20210104T075509Z
UID:6231-1636156800-1636243199@www.svtsydney.org
SUMMARY:Pavithram Saathuthal (Offering)
DESCRIPTION:8.00am: Thirupalli Elluchi (Waking up of the Lord)\, Nitya Pooja\, PunyakaVachanam\, 108 Kalasapooja\, Homam\, Abhishekam\, Draping the Pavithra on Lord Sri Venkateswara\, Visesha Pooja\, Chanting of Vedas\, Puranas & Verses from Bhagavad Gita\, Poornahuti \n5.00pm: Nitya Pooja\, Yaga Sala Pooja\, Chanting of Sri Vishnu Sahasranama & Evening Pooja \nShare this page with your friends via:
URL:https://www.svtsydney.org/event/pavithram-saathuthal-offering-2/
END:VEVENT
BEGIN:VEVENT
DTSTART;VALUE=DATE:20211107
DTEND;VALUE=DATE:20211108
DTSTAMP:20260425T031424
CREATED:20210104T080037Z
LAST-MODIFIED:20210104T080037Z
UID:6233-1636243200-1636329599@www.svtsydney.org
SUMMARY:Pavithra Utsavam Poorthi
DESCRIPTION:8.00am: Thirupalli Elluchi (Waking up of the Lord)\, Nitya Pooja\, Shanti Homam\, Abhishekam Sri Venkateswara Utsavamoorthy\, Sri Mahalakshmi\, Sri Andal. The Utsavamoorthies taken on Garuda Vahana in a procession around the Temple. \n11.00 am: TheesthaVari \n  \nShare this page with your friends via:
URL:https://www.svtsydney.org/event/pavithra-utsavam-poorthi-3/
END:VEVENT
BEGIN:VEVENT
DTSTART;VALUE=DATE:20211109
DTEND;VALUE=DATE:20211110
DTSTAMP:20260425T031424
CREATED:20210104T080224Z
LAST-MODIFIED:20210104T080224Z
UID:6235-1636416000-1636502399@www.svtsydney.org
SUMMARY:Viswaksenar Jayanthi
DESCRIPTION:Share this page with your friends via:
URL:https://www.svtsydney.org/event/viswaksenar-jayanthi/
END:VEVENT
BEGIN:VEVENT
DTSTART;TZID=Australia/Melbourne:20211110T100000
DTEND;TZID=Australia/Melbourne:20211110T120000
DTSTAMP:20260425T031424
CREATED:20210104T080800Z
LAST-MODIFIED:20210104T080800Z
UID:6237-1636538400-1636545600@www.svtsydney.org
SUMMARY:Skanda Sashti - Soora Samharam
DESCRIPTION:Abhishekam for Sri Siva Subramanyar\, Sri Valli and Sri Devasena\, Alankaram and Maha Deeparadhanai. \nShare this page with your friends via:
URL:https://www.svtsydney.org/event/skanda-sashti-soora-samharam-2/
END:VEVENT
BEGIN:VEVENT
DTSTART;TZID=Australia/Melbourne:20211114T100000
DTEND;TZID=Australia/Melbourne:20211114T123000
DTSTAMP:20260425T031424
CREATED:20210104T080934Z
LAST-MODIFIED:20210104T080934Z
UID:6239-1636884000-1636893000@www.svtsydney.org
SUMMARY:Skanda Sashti Festival
DESCRIPTION:Abhishekam for Sri Siva Subramanyar\, Sri Valli and Sri Devasena\, Alankaram and Maha Deeparadhanai. Utsavamoorthies procession within the Praharam. \nShare this page with your friends via:
URL:https://www.svtsydney.org/event/skanda-sashti-festival-3/
END:VEVENT
BEGIN:VEVENT
DTSTART;TZID=Australia/Melbourne:20211116T173000
DTEND;TZID=Australia/Melbourne:20211116T190000
DTSTAMP:20260425T031424
CREATED:20210104T081143Z
LAST-MODIFIED:20210104T081143Z
UID:6243-1637083800-1637089200@www.svtsydney.org
SUMMARY:Pradosham
DESCRIPTION:Abhishekam for Sri Nandikeshwarar\, Sri Chandramouliswsarar\, Alankaram and Maha Deeparadhanai. \nShare this page with your friends via:
URL:https://www.svtsydney.org/event/pradosham-61/
END:VEVENT
BEGIN:VEVENT
DTSTART;VALUE=DATE:20211118
DTEND;VALUE=DATE:20211119
DTSTAMP:20260425T031424
CREATED:20210104T081234Z
LAST-MODIFIED:20210104T081234Z
UID:6245-1637193600-1637279999@www.svtsydney.org
SUMMARY:Bharani Deepam
DESCRIPTION:Share this page with your friends via:
URL:https://www.svtsydney.org/event/bharani-deepam/
END:VEVENT
BEGIN:VEVENT
DTSTART;VALUE=DATE:20211119
DTEND;VALUE=DATE:20211120
DTSTAMP:20260425T031424
CREATED:20210104T081330Z
LAST-MODIFIED:20210104T081330Z
UID:6247-1637280000-1637366399@www.svtsydney.org
SUMMARY:Krithigai Sarvalaya Deepam
DESCRIPTION:Share this page with your friends via:
URL:https://www.svtsydney.org/event/krithigai-sarvalaya-deepam/
END:VEVENT
BEGIN:VEVENT
DTSTART;TZID=Australia/Melbourne:20211121T080000
DTEND;TZID=Australia/Melbourne:20211121T123000
DTSTAMP:20260425T031424
CREATED:20210104T081954Z
LAST-MODIFIED:20210104T081954Z
UID:6249-1637481600-1637497800@www.svtsydney.org
SUMMARY:63 Nayanmar Prathishta Day - Thirutondar Vizha
DESCRIPTION:Sankalpam\, KumbhaStapana Pooja\, Visesha Abhishekam for Niruthi Vinayakar and Thiruthondars\, Alankaram\, Deeparadhanai and Archana. \nChanting of Vinayakar Agaval\, selection of songs from PanniruThirumurai and Periya Puranam. Procession of Nalvar within Temple Premises & Maha Deeparadhanai. \nShare this page with your friends via:
URL:https://www.svtsydney.org/event/63-nayanmar-prathishta-day-thirutondar-vizha/
END:VEVENT
BEGIN:VEVENT
DTSTART;TZID=Australia/Melbourne:20211122T173000
DTEND;TZID=Australia/Melbourne:20211122T190000
DTSTAMP:20260425T031424
CREATED:20210104T082301Z
LAST-MODIFIED:20210104T082301Z
UID:6251-1637602200-1637607600@www.svtsydney.org
SUMMARY:1st Kaarthigai Soma Vaaram
DESCRIPTION:Abhishekam for Sri Chandramouleeswarar\, Alankaram and Maha Deeparadhanai. \nShare this page with your friends via:
URL:https://www.svtsydney.org/event/1st-kaarthigai-soma-vaaram/
END:VEVENT
BEGIN:VEVENT
DTSTART;TZID=Australia/Melbourne:20211129T173000
DTEND;TZID=Australia/Melbourne:20211129T190000
DTSTAMP:20260425T031424
CREATED:20210104T082419Z
LAST-MODIFIED:20210104T082419Z
UID:6253-1638207000-1638212400@www.svtsydney.org
SUMMARY:2nd Kaarthigai Soma Vaaram
DESCRIPTION:Abhishekam for Sri Chandramouleeswarar\, Alankaram and Maha Deeparadhanai. \nShare this page with your friends via:
URL:https://www.svtsydney.org/event/2nd-kaarthigai-soma-vaaram/
END:VEVENT
END:VCALENDAR