BEGIN:VCALENDAR
VERSION:2.0
PRODID:-//SRI VENKATESWARA TEMPLE(SVT) - ECPv6.0.2//NONSGML v1.0//EN
CALSCALE:GREGORIAN
METHOD:PUBLISH
X-ORIGINAL-URL:https://www.svtsydney.org
X-WR-CALDESC:Events for SRI VENKATESWARA TEMPLE(SVT)
REFRESH-INTERVAL;VALUE=DURATION:PT1H
X-Robots-Tag:noindex
X-PUBLISHED-TTL:PT1H
BEGIN:VTIMEZONE
TZID:Australia/Melbourne
BEGIN:STANDARD
TZOFFSETFROM:+1100
TZOFFSETTO:+1000
TZNAME:AEST
DTSTART:20220402T160000
END:STANDARD
BEGIN:DAYLIGHT
TZOFFSETFROM:+1000
TZOFFSETTO:+1100
TZNAME:AEDT
DTSTART:20221001T160000
END:DAYLIGHT
END:VTIMEZONE
BEGIN:VEVENT
DTSTART;VALUE=DATE:20220101
DTEND;VALUE=DATE:20220102
DTSTAMP:20260424T233354
CREATED:20211227T004947Z
LAST-MODIFIED:20211227T010003Z
UID:7627-1640995200-1641081599@www.svtsydney.org
SUMMARY:New Year's Day
DESCRIPTION:06.00am: Ganapathy Homam\, Visesha Abishekam for Sri Varasidhi Vinayakar & Maha Deeparadhanai.  \n09.00am: Abhishekam for Lord Sri Venkateswaran \nContinuous Archanas from 08.00am to 07.00pm. \nShare this page with your friends via:
URL:https://www.svtsydney.org/event/new-years-day-6/
END:VEVENT
BEGIN:VEVENT
DTSTART;TZID=Australia/Melbourne:20220102T100000
DTEND;TZID=Australia/Melbourne:20220102T123000
DTSTAMP:20260424T233354
CREATED:20211227T010310Z
LAST-MODIFIED:20211227T010310Z
UID:7632-1641117600-1641126600@www.svtsydney.org
SUMMARY:Sri Hanumath Jayanthi
DESCRIPTION:Visesha Abhishekam for Sri Hanuman \nAlankaram and Maha Deeparadhanai. \nShare this page with your friends via:
URL:https://www.svtsydney.org/event/sri-hanumath-jayanthi-2/
END:VEVENT
BEGIN:VEVENT
DTSTART;TZID=Australia/Melbourne:20220111T100000
DTEND;TZID=Australia/Melbourne:20220111T120000
DTSTAMP:20260424T233354
CREATED:20211227T010635Z
LAST-MODIFIED:20211227T010635Z
UID:7634-1641895200-1641902400@www.svtsydney.org
SUMMARY:Koodarai Vellum
DESCRIPTION:Abishekam for Sri Andal\, Alankaram & Maha Deeparadhanai. \nShare this page with your friends via:
URL:https://www.svtsydney.org/event/koodarai-vellum-4/
END:VEVENT
BEGIN:VEVENT
DTSTART;VALUE=DATE:20220113
DTEND;VALUE=DATE:20220114
DTSTAMP:20260424T233354
CREATED:20211227T011150Z
LAST-MODIFIED:20211227T011150Z
UID:7636-1642032000-1642118399@www.svtsydney.org
SUMMARY:VAIKUNTA EKADASI
DESCRIPTION:09.00am: Swarga Vaasal Dharisanam \n10.30am:Visesha Abhishekam for Sri Venkateswarar Moolavar\, Alankaram\, Maha Deeparadhana\, Special Poojas and Archanas & Oonjal Seva. \n02.00pm: Kalyana Utsavam. \nShare this page with your friends via:
URL:https://www.svtsydney.org/event/vaikunta-ekadasi-2/
END:VEVENT
BEGIN:VEVENT
DTSTART;VALUE=DATE:20220114
DTEND;VALUE=DATE:20220115
DTSTAMP:20260424T233354
CREATED:20211227T011429Z
LAST-MODIFIED:20211227T011429Z
UID:7638-1642118400-1642204799@www.svtsydney.org
SUMMARY:Maha Sankranthi-Pongal
DESCRIPTION:09.00am: Visesha Abishekam for Sri Venkateswara Utsava Moorthy\, Alankaram and Maha Deeparadhana. \n10.00amVisesha Abishekam for Sri Varasidhi Vinayakar\, Alankaram\, Maha Deeparadhanai and Archanas. \nShare this page with your friends via:
URL:https://www.svtsydney.org/event/maha-sankranthi-pongal-2/
END:VEVENT
BEGIN:VEVENT
DTSTART;TZID=Australia/Melbourne:20220115T173000
DTEND;TZID=Australia/Melbourne:20220115T190000
DTSTAMP:20260424T233354
CREATED:20211227T011616Z
LAST-MODIFIED:20211227T011616Z
UID:7640-1642267800-1642273200@www.svtsydney.org
SUMMARY:Pradosham
DESCRIPTION:Abhishekam for Sri Nandikeswarar & Sri Chandramouliswarar\, Alankaram and Maha Deeparadhanai \nShare this page with your friends via:
URL:https://www.svtsydney.org/event/pradosham-65/
END:VEVENT
BEGIN:VEVENT
DTSTART;TZID=Australia/Melbourne:20220116T140000
DTEND;TZID=Australia/Melbourne:20220116T160000
DTSTAMP:20260424T233354
CREATED:20211227T011810Z
LAST-MODIFIED:20211227T011810Z
UID:7642-1642341600-1642348800@www.svtsydney.org
SUMMARY:Sri Andal Thiru Kalyanam
DESCRIPTION:Share this page with your friends via:
URL:https://www.svtsydney.org/event/sri-andal-thiru-kalyanam-2/
END:VEVENT
BEGIN:VEVENT
DTSTART;TZID=Australia/Melbourne:20220118T100000
DTEND;TZID=Australia/Melbourne:20220118T113000
DTSTAMP:20260424T233354
CREATED:20211227T012028Z
LAST-MODIFIED:20211227T012028Z
UID:7644-1642500000-1642505400@www.svtsydney.org
SUMMARY:Thai Poosam
DESCRIPTION:Visesha Abhishekam for Sri Subramanya Swamy\, Sri Valli and Sri Deivasena\, Alankaram and Maha Deeparadhanai. \nShare this page with your friends via:
URL:https://www.svtsydney.org/event/thai-poosam-3/
END:VEVENT
BEGIN:VEVENT
DTSTART;TZID=Australia/Melbourne:20220123T100000
DTEND;TZID=Australia/Melbourne:20220123T123000
DTSTAMP:20260424T233354
CREATED:20211227T012236Z
LAST-MODIFIED:20211227T012236Z
UID:7646-1642932000-1642941000@www.svtsydney.org
SUMMARY:Thai Poosam Festival
DESCRIPTION:Paal Kudam\, Kaavadi Aattam\, Visesha Abhishekam for Sri Subramanya Swamy\, Sri Valli and Sri Deivasena\, Alankaram and Maha Deeparadhanai. \nShare this page with your friends via:
URL:https://www.svtsydney.org/event/thai-poosam-festival-2/
END:VEVENT
BEGIN:VEVENT
DTSTART;TZID=Australia/Melbourne:20220129T173000
DTEND;TZID=Australia/Melbourne:20220129T190000
DTSTAMP:20260424T233354
CREATED:20211227T012411Z
LAST-MODIFIED:20211227T012411Z
UID:7648-1643477400-1643482800@www.svtsydney.org
SUMMARY:Pradosham
DESCRIPTION:Abishekam for Sri Nandikeshwarar & Sri Chandramouliswarar\, Alankaram and Maha Deeparadhanai. \nShare this page with your friends via:
URL:https://www.svtsydney.org/event/pradosham-66/
END:VEVENT
BEGIN:VEVENT
DTSTART;TZID=Australia/Melbourne:20220130T140000
DTEND;TZID=Australia/Melbourne:20220130T170000
DTSTAMP:20260424T233354
CREATED:20211227T013323Z
LAST-MODIFIED:20211227T013323Z
UID:7654-1643551200-1643562000@www.svtsydney.org
SUMMARY:SRIVIDYA NAVAVARANA POOJA
DESCRIPTION:Maha Maeru (Sri Chakra) Abhishekam\, Deeparadhanai.\nShare this page with your friends via:
URL:https://www.svtsydney.org/event/srividya-navavarana-pooja/
END:VEVENT
BEGIN:VEVENT
DTSTART;VALUE=DATE:20220131
DTEND;VALUE=DATE:20220201
DTSTAMP:20260424T233354
CREATED:20211227T012455Z
LAST-MODIFIED:20211227T012455Z
UID:7650-1643587200-1643673599@www.svtsydney.org
SUMMARY:Thai Amavasya
DESCRIPTION:Share this page with your friends via:
URL:https://www.svtsydney.org/event/thai-amavasya/
END:VEVENT
END:VCALENDAR