BEGIN:VCALENDAR
VERSION:2.0
PRODID:-//SRI VENKATESWARA TEMPLE(SVT) - ECPv6.0.2//NONSGML v1.0//EN
CALSCALE:GREGORIAN
METHOD:PUBLISH
X-ORIGINAL-URL:https://www.svtsydney.org
X-WR-CALDESC:Events for SRI VENKATESWARA TEMPLE(SVT)
REFRESH-INTERVAL;VALUE=DURATION:PT1H
X-Robots-Tag:noindex
X-PUBLISHED-TTL:PT1H
BEGIN:VTIMEZONE
TZID:Australia/Melbourne
BEGIN:STANDARD
TZOFFSETFROM:+1100
TZOFFSETTO:+1000
TZNAME:AEST
DTSTART:20220402T160000
END:STANDARD
BEGIN:DAYLIGHT
TZOFFSETFROM:+1000
TZOFFSETTO:+1100
TZNAME:AEDT
DTSTART:20221001T160000
END:DAYLIGHT
END:VTIMEZONE
BEGIN:VEVENT
DTSTART;TZID=Australia/Melbourne:20220206T100000
DTEND;TZID=Australia/Melbourne:20220206T123000
DTSTAMP:20260424T215555
CREATED:20211227T012834Z
LAST-MODIFIED:20211227T012834Z
UID:7652-1644141600-1644150600@www.svtsydney.org
SUMMARY:ThiruVilakku Pooja
DESCRIPTION:Thiru Vilakku Pooja\, Sri Lalitha Sahasranama Archana and Maha Deeparadhanai. \nShare this page with your friends via:
URL:https://www.svtsydney.org/event/thiruvilakku-pooja/
END:VEVENT
BEGIN:VEVENT
DTSTART;VALUE=DATE:20220208
DTEND;VALUE=DATE:20220209
DTSTAMP:20260424T215555
CREATED:20211227T013825Z
LAST-MODIFIED:20211227T013825Z
UID:7656-1644278400-1644364799@www.svtsydney.org
SUMMARY:Ratha Sapthami
DESCRIPTION:Share this page with your friends via:
URL:https://www.svtsydney.org/event/ratha-sapthami-4/
END:VEVENT
BEGIN:VEVENT
DTSTART;VALUE=DATE:20220209
DTEND;VALUE=DATE:20220210
DTSTAMP:20260424T215555
CREATED:20211227T013858Z
LAST-MODIFIED:20211227T013858Z
UID:7658-1644364800-1644451199@www.svtsydney.org
SUMMARY:Thai Krithigai
DESCRIPTION:Share this page with your friends via:
URL:https://www.svtsydney.org/event/thai-krithigai-2/
END:VEVENT
BEGIN:VEVENT
DTSTART;TZID=Australia/Melbourne:20220210T080000
DTEND;TZID=Australia/Melbourne:20220210T113000
DTSTAMP:20260424T215555
CREATED:20211227T014046Z
LAST-MODIFIED:20211227T014046Z
UID:7660-1644480000-1644492600@www.svtsydney.org
SUMMARY:Shiva Shrine  Pratishta Day
DESCRIPTION:Anugya\, Vigneswara Pooja\, Punyakavachanam\, Kalasa Pooja\, Rudra Moola Mantra Homam\, Maha Poornahuti\, Visesha Abhishekam\, Alankaram & Maha Deeparadhanai. \nShare this page with your friends via:
URL:https://www.svtsydney.org/event/shiva-shrine-pratishta-day/
END:VEVENT
BEGIN:VEVENT
DTSTART;TZID=Australia/Melbourne:20220212T083000
DTEND;TZID=Australia/Melbourne:20220212T140000
DTSTAMP:20260424T215555
CREATED:20211227T014356Z
LAST-MODIFIED:20211227T014356Z
UID:7662-1644654600-1644674400@www.svtsydney.org
SUMMARY:Sahasra KalasAbhishekam
DESCRIPTION:Sankalpam\, Pubyaka Vachanam\, Kalasa Sthpanam\, Moola Mantra Homam\, followed by Abhishekam\, Alankaram and Sodosa Upacharam. \nGaruda Sevai. \nShare this page with your friends via:
URL:https://www.svtsydney.org/event/sahasra-kalasabhishekam-2/
END:VEVENT
BEGIN:VEVENT
DTSTART;TZID=Australia/Melbourne:20220214T173000
DTEND;TZID=Australia/Melbourne:20220214T190000
DTSTAMP:20260424T215555
CREATED:20211227T014534Z
LAST-MODIFIED:20211227T014534Z
UID:7664-1644859800-1644865200@www.svtsydney.org
SUMMARY:Pradosham
DESCRIPTION:Abishekam for Sri Nandikeshwarar & Sri Chandramouliswarar\, Alankaram and Maha deeparadhanai  \nShare this page with your friends via:
URL:https://www.svtsydney.org/event/pradosham-67/
END:VEVENT
BEGIN:VEVENT
DTSTART;VALUE=DATE:20220215
DTEND;VALUE=DATE:20220216
DTSTAMP:20260424T215555
CREATED:20211227T014614Z
LAST-MODIFIED:20211227T014614Z
UID:7666-1644883200-1644969599@www.svtsydney.org
SUMMARY:Sri Natarajar Abhishekam
DESCRIPTION:Share this page with your friends via:
URL:https://www.svtsydney.org/event/sri-natarajar-abhishekam-4/
END:VEVENT
BEGIN:VEVENT
DTSTART;VALUE=DATE:20220217
DTEND;VALUE=DATE:20220218
DTSTAMP:20260424T215555
CREATED:20211227T014649Z
LAST-MODIFIED:20211227T014649Z
UID:7668-1645056000-1645142399@www.svtsydney.org
SUMMARY:Maasi Magham
DESCRIPTION:Share this page with your friends via:
URL:https://www.svtsydney.org/event/maasi-magham/
END:VEVENT
BEGIN:VEVENT
DTSTART;VALUE=DATE:20220220
DTEND;VALUE=DATE:20220221
DTSTAMP:20260424T215555
CREATED:20211227T015302Z
LAST-MODIFIED:20211227T015302Z
UID:7672-1645315200-1645401599@www.svtsydney.org
SUMMARY:Sri Siva Mahotsavam - Poorvaangam
DESCRIPTION:6.00am: Sri Ganesha Pooja\, Sri Devatha Anugyai\, Sri Ganapathy Homam\, Sri Navagraha Homam\, Deeparadhanai. \n4.00pm: Sri Vigneswara Pooja\, Yajamana Sankalpam\, Rakshabandanam\, \nShare this page with your friends via:
URL:https://www.svtsydney.org/event/sri-siva-mahotsavam-poorvaangam/
END:VEVENT
BEGIN:VEVENT
DTSTART;VALUE=DATE:20220221
DTEND;VALUE=DATE:20220222
DTSTAMP:20260424T215555
CREATED:20211227T015544Z
LAST-MODIFIED:20211227T015544Z
UID:7674-1645401600-1645487999@www.svtsydney.org
SUMMARY:SM- Day 1 - Flag Hoisting Ceremony
DESCRIPTION:06.00am: Nitya Poojas \n09.00am: Dwajapaada (Festival flag) Pooja\, \n10.30am: Dwaja Aarohanam (Flag hoisting ceremony) \nShare this page with your friends via:
URL:https://www.svtsydney.org/event/sm-day-1-flag-hoisting-ceremony/
END:VEVENT
BEGIN:VEVENT
DTSTART;VALUE=DATE:20220222
DTEND;VALUE=DATE:20220223
DTSTAMP:20260424T215555
CREATED:20211227T015805Z
LAST-MODIFIED:20211227T015805Z
UID:7676-1645488000-1645574399@www.svtsydney.org
SUMMARY:SM - Day 2
DESCRIPTION:10.00am: Yagashala Pooja (Second Kala Siva Homam)\,  \n06.45pm: Vasantha Mandapa Poojas. \nShare this page with your friends via:
URL:https://www.svtsydney.org/event/sm-day-2/
END:VEVENT
BEGIN:VEVENT
DTSTART;VALUE=DATE:20220223
DTEND;VALUE=DATE:20220224
DTSTAMP:20260424T215555
CREATED:20211227T015925Z
LAST-MODIFIED:20211227T015925Z
UID:7678-1645574400-1645660799@www.svtsydney.org
SUMMARY:SM - Day 3
DESCRIPTION:10.00am:  Yagashala Pooja (Fourth Kala Siva Homam)\,  \n06.45pm: Vasantha Mandapa Poojas \nShare this page with your friends via:
URL:https://www.svtsydney.org/event/sm-day-3/
END:VEVENT
BEGIN:VEVENT
DTSTART;VALUE=DATE:20220224
DTEND;VALUE=DATE:20220225
DTSTAMP:20260424T215555
CREATED:20211227T020051Z
LAST-MODIFIED:20211227T020051Z
UID:7680-1645660800-1645747199@www.svtsydney.org
SUMMARY:SM - Day 4
DESCRIPTION:10.00am:  Yagashala Pooja (Sixth Kala Siva Homam)\,  \n06.45pm: Vasantha Mandapa Poojas \nShare this page with your friends via:
URL:https://www.svtsydney.org/event/sm-day-4/
END:VEVENT
BEGIN:VEVENT
DTSTART;VALUE=DATE:20220225
DTEND;VALUE=DATE:20220226
DTSTAMP:20260424T215555
CREATED:20211227T020219Z
LAST-MODIFIED:20211227T020219Z
UID:7682-1645747200-1645833599@www.svtsydney.org
SUMMARY:SM - Day 5
DESCRIPTION:11.00am: Yagashala & Vasantha Mandapa Poojas. \n06.45pm: Vasantha Mandapa Poojas. \nShare this page with your friends via:
URL:https://www.svtsydney.org/event/sm-day-5/
END:VEVENT
BEGIN:VEVENT
DTSTART;VALUE=DATE:20220226
DTEND;VALUE=DATE:20220227
DTSTAMP:20260424T215555
CREATED:20211227T020320Z
LAST-MODIFIED:20211227T020320Z
UID:7684-1645833600-1645919999@www.svtsydney.org
SUMMARY:SM - Day 6
DESCRIPTION:11.00am: Yagashala & Vasantha Mandapa Poojas. \n06.45pm: Vasantha Mandapa Poojas. \nShare this page with your friends via:
URL:https://www.svtsydney.org/event/sm-day-6/
END:VEVENT
BEGIN:VEVENT
DTSTART;VALUE=DATE:20220227
DTEND;VALUE=DATE:20220228
DTSTAMP:20260424T215555
CREATED:20211227T020612Z
LAST-MODIFIED:20211227T020612Z
UID:7686-1645920000-1646006399@www.svtsydney.org
SUMMARY:SM - Day 7  Sri Meenakshi ThiruKalyana Utsavam
DESCRIPTION:11.00am: Prahara Utsavam. \n03.00pm: Sri Meenakshi Kalyana Utsavam. \n05.30pm: Upachara Poojas\, Procession of Meenakshi & Sundareswarar on Kalyana Kolam inside and around the Temple on Pushpa Pallakku. \nShare this page with your friends via:
URL:https://www.svtsydney.org/event/sm-day-7-sri-meenakshi-thirukalyana-utsavam/
END:VEVENT
BEGIN:VEVENT
DTSTART;VALUE=DATE:20220228
DTEND;VALUE=DATE:20220301
DTSTAMP:20260424T215555
CREATED:20211227T020823Z
LAST-MODIFIED:20211227T020823Z
UID:7688-1646006400-1646092799@www.svtsydney.org
SUMMARY:SM - Day 8
DESCRIPTION:11.00am: Yagashala & Vasantha Mandapa Poojas. \nShare this page with your friends via:
URL:https://www.svtsydney.org/event/sm-day-8/
END:VEVENT
BEGIN:VEVENT
DTSTART;TZID=Australia/Melbourne:20220228T173000
DTEND;TZID=Australia/Melbourne:20220228T190000
DTSTAMP:20260424T215555
CREATED:20211227T014757Z
LAST-MODIFIED:20211227T014757Z
UID:7670-1646069400-1646074800@www.svtsydney.org
SUMMARY:Pradosham
DESCRIPTION:Abishekam for Sri Nandikeshwarar & \nSri Chandramouliswarar\, Alankaram and Maha Deeparadhanai  \nShare this page with your friends via:
URL:https://www.svtsydney.org/event/pradosham-68/
END:VEVENT
END:VCALENDAR