BEGIN:VCALENDAR
VERSION:2.0
PRODID:-//SRI VENKATESWARA TEMPLE(SVT) - ECPv6.0.2//NONSGML v1.0//EN
CALSCALE:GREGORIAN
METHOD:PUBLISH
X-ORIGINAL-URL:https://www.svtsydney.org
X-WR-CALDESC:Events for SRI VENKATESWARA TEMPLE(SVT)
REFRESH-INTERVAL;VALUE=DURATION:PT1H
X-Robots-Tag:noindex
X-PUBLISHED-TTL:PT1H
BEGIN:VTIMEZONE
TZID:Australia/Melbourne
BEGIN:STANDARD
TZOFFSETFROM:+1100
TZOFFSETTO:+1000
TZNAME:AEST
DTSTART:20220402T160000
END:STANDARD
BEGIN:DAYLIGHT
TZOFFSETFROM:+1000
TZOFFSETTO:+1100
TZNAME:AEDT
DTSTART:20221001T160000
END:DAYLIGHT
END:VTIMEZONE
BEGIN:VEVENT
DTSTART;VALUE=DATE:20220301
DTEND;VALUE=DATE:20220302
DTSTAMP:20260424T201000
CREATED:20211227T021729Z
LAST-MODIFIED:20211227T021729Z
UID:7694-1646092800-1646179199@www.svtsydney.org
SUMMARY:Maha Sivarathri
DESCRIPTION:06.00pm: Maha Sivarathri Poojas commence. \nShare this page with your friends via:
URL:https://www.svtsydney.org/event/maha-sivarathri-2/
END:VEVENT
BEGIN:VEVENT
DTSTART;TZID=Australia/Melbourne:20220301T103000
DTEND;TZID=Australia/Melbourne:20220301T130000
DTSTAMP:20260424T201000
CREATED:20211227T021052Z
LAST-MODIFIED:20211227T021052Z
UID:7690-1646130600-1646139600@www.svtsydney.org
SUMMARY:SM - Day 9 - Chariot Festval – Ther Thiruvizha
DESCRIPTION:Share this page with your friends via:
URL:https://www.svtsydney.org/event/sm-day-9-chariot-festval-ther-thiruvizha/
END:VEVENT
BEGIN:VEVENT
DTSTART;TZID=Australia/Melbourne:20220301T140000
DTEND;TZID=Australia/Melbourne:20220301T153000
DTSTAMP:20260424T201000
CREATED:20211227T021855Z
LAST-MODIFIED:20211227T021855Z
UID:7696-1646143200-1646148600@www.svtsydney.org
SUMMARY:Pradosham
DESCRIPTION:Abishekam for Sri Nandikeshwarar & \nSri Chandramouliswarar\, Alankaram and Maha Deeparadhanai \nShare this page with your friends via:
URL:https://www.svtsydney.org/event/pradosham-69/
END:VEVENT
BEGIN:VEVENT
DTSTART;VALUE=DATE:20220302
DTEND;VALUE=DATE:20220303
DTSTAMP:20260424T201000
CREATED:20211227T021234Z
LAST-MODIFIED:20211227T021234Z
UID:7692-1646179200-1646265599@www.svtsydney.org
SUMMARY:SM - Day 10
DESCRIPTION:09.30am: Choorna Utsavam \n11.30am: Theerthavari \n05.30pm: Dwaja Avarohanam \nShare this page with your friends via:
URL:https://www.svtsydney.org/event/sm-day-10/
END:VEVENT
BEGIN:VEVENT
DTSTART;VALUE=DATE:20220303
DTEND;VALUE=DATE:20220304
DTSTAMP:20260424T201000
CREATED:20211227T022042Z
LAST-MODIFIED:20211227T022042Z
UID:7698-1646265600-1646351999@www.svtsydney.org
SUMMARY:Amavaasya
DESCRIPTION:Share this page with your friends via:
URL:https://www.svtsydney.org/event/amavaasya/
END:VEVENT
BEGIN:VEVENT
DTSTART;VALUE=DATE:20220314
DTEND;VALUE=DATE:20220315
DTSTAMP:20260424T201000
CREATED:20211227T022119Z
LAST-MODIFIED:20211227T022119Z
UID:7700-1647216000-1647302399@www.svtsydney.org
SUMMARY:Karadaiyan Nonbu
DESCRIPTION:Share this page with your friends via:
URL:https://www.svtsydney.org/event/karadaiyan-nonbu/
END:VEVENT
BEGIN:VEVENT
DTSTART;TZID=Australia/Melbourne:20220315T173000
DTEND;TZID=Australia/Melbourne:20220315T190000
DTSTAMP:20260424T201000
CREATED:20211227T022236Z
LAST-MODIFIED:20211227T022236Z
UID:7702-1647365400-1647370800@www.svtsydney.org
SUMMARY:Pradosham
DESCRIPTION:Abishekam for Sri Nandikeshwarar & \nSri Chandramouliswarar\, Alankaram and Maha Deeparadhanai \nShare this page with your friends via:
URL:https://www.svtsydney.org/event/pradosham-70/
END:VEVENT
BEGIN:VEVENT
DTSTART;VALUE=DATE:20220318
DTEND;VALUE=DATE:20220319
DTSTAMP:20260424T201000
CREATED:20211227T022410Z
LAST-MODIFIED:20211227T022410Z
UID:7704-1647561600-1647647999@www.svtsydney.org
SUMMARY:Panguni Uthiram
DESCRIPTION:Share this page with your friends via:
URL:https://www.svtsydney.org/event/panguni-uthiram/
END:VEVENT
BEGIN:VEVENT
DTSTART;TZID=Australia/Melbourne:20220318T173000
DTEND;TZID=Australia/Melbourne:20220318T190000
DTSTAMP:20260424T201000
CREATED:20211227T022520Z
LAST-MODIFIED:20211227T022520Z
UID:7706-1647624600-1647630000@www.svtsydney.org
SUMMARY:Pournami
DESCRIPTION:Lalitha Sahasranama archana for Sri Tripurasundari \nShare this page with your friends via:
URL:https://www.svtsydney.org/event/pournami-19/
END:VEVENT
BEGIN:VEVENT
DTSTART;TZID=Australia/Melbourne:20220329T173000
DTEND;TZID=Australia/Melbourne:20220329T190000
DTSTAMP:20260424T201000
CREATED:20211227T022657Z
LAST-MODIFIED:20211227T022657Z
UID:7708-1648575000-1648580400@www.svtsydney.org
SUMMARY:Pradosham
DESCRIPTION:Abishekam for Sri Nandikeshwarar & Sri Chandramouliswarar\, Alankaram and Maha Deeparadhanai. \nShare this page with your friends via:
URL:https://www.svtsydney.org/event/pradosham-71/
END:VEVENT
BEGIN:VEVENT
DTSTART;VALUE=DATE:20220331
DTEND;VALUE=DATE:20220401
DTSTAMP:20260424T201000
CREATED:20211227T022733Z
LAST-MODIFIED:20211227T022733Z
UID:7710-1648684800-1648771199@www.svtsydney.org
SUMMARY:Amavaasya
DESCRIPTION:Share this page with your friends via:
URL:https://www.svtsydney.org/event/amavaasya-2/
END:VEVENT
END:VCALENDAR